BEGIN:VCALENDAR
VERSION:2.0
PRODID:-//Idaho Workforce Development Council - ECPv6.15.13//NONSGML v1.0//EN
CALSCALE:GREGORIAN
METHOD:PUBLISH
X-WR-CALNAME:Idaho Workforce Development Council
X-ORIGINAL-URL:https://wdc.idaho.gov
X-WR-CALDESC:Events for Idaho Workforce Development Council
REFRESH-INTERVAL;VALUE=DURATION:PT1H
X-Robots-Tag:noindex
X-PUBLISHED-TTL:PT1H
BEGIN:VTIMEZONE
TZID:America/Boise
BEGIN:DAYLIGHT
TZOFFSETFROM:-0700
TZOFFSETTO:-0600
TZNAME:MDT
DTSTART:20220313T090000
END:DAYLIGHT
BEGIN:STANDARD
TZOFFSETFROM:-0600
TZOFFSETTO:-0700
TZNAME:MST
DTSTART:20221106T080000
END:STANDARD
BEGIN:DAYLIGHT
TZOFFSETFROM:-0700
TZOFFSETTO:-0600
TZNAME:MDT
DTSTART:20230312T090000
END:DAYLIGHT
BEGIN:STANDARD
TZOFFSETFROM:-0600
TZOFFSETTO:-0700
TZNAME:MST
DTSTART:20231105T080000
END:STANDARD
BEGIN:DAYLIGHT
TZOFFSETFROM:-0700
TZOFFSETTO:-0600
TZNAME:MDT
DTSTART:20240310T090000
END:DAYLIGHT
BEGIN:STANDARD
TZOFFSETFROM:-0600
TZOFFSETTO:-0700
TZNAME:MST
DTSTART:20241103T080000
END:STANDARD
END:VTIMEZONE
BEGIN:VEVENT
DTSTART;VALUE=DATE:20230405
DTEND;VALUE=DATE:20230406
DTSTAMP:20260425T151930
CREATED:20230324T144923Z
LAST-MODIFIED:20230623T192515Z
UID:6132-1680652800-1680739199@wdc.idaho.gov
SUMMARY:Outreach Committee Meeting
DESCRIPTION:A regular monthly meeting of the Outreach Committee. \nApril 5\, 2023 from 1:30 – 3:00 PM\, MT.
URL:https://wdc.idaho.gov/event/outreach-committee-meeting-5/
CATEGORIES:Committee Meeting
END:VEVENT
BEGIN:VEVENT
DTSTART;VALUE=DATE:20230407
DTEND;VALUE=DATE:20230408
DTSTAMP:20260425T151930
CREATED:20230324T145620Z
LAST-MODIFIED:20230623T183353Z
UID:6135-1680825600-1680911999@wdc.idaho.gov
SUMMARY:Child Care Expansion Grant Committee Meeting
DESCRIPTION:A regular monthly meeting of the Child Care Committee. \nApril 7\, 2023 from 9:00 – 11:00 AM\, MT.
URL:https://wdc.idaho.gov/event/child-care-expansion-grant-committee-meeting-3/
CATEGORIES:Committee Meeting
END:VEVENT
BEGIN:VEVENT
DTSTART;VALUE=DATE:20230411
DTEND;VALUE=DATE:20230412
DTSTAMP:20260425T151930
CREATED:20230324T150115Z
LAST-MODIFIED:20230623T183307Z
UID:6138-1681171200-1681257599@wdc.idaho.gov
SUMMARY:One-Stop Committee Meeting
DESCRIPTION:A regular monthly meeting of the One-Stop Committee. \nApril 11\, 2023 from 10:30 AM – 12:00 PM\, MT
URL:https://wdc.idaho.gov/event/one-stop-committee-meeting-5/
CATEGORIES:Committee Meeting
END:VEVENT
BEGIN:VEVENT
DTSTART;VALUE=DATE:20230413
DTEND;VALUE=DATE:20230414
DTSTAMP:20260425T151930
CREATED:20230324T150657Z
LAST-MODIFIED:20230623T183032Z
UID:6141-1681344000-1681430399@wdc.idaho.gov
SUMMARY:Executive Committee Meeting
DESCRIPTION:A regular monthly meeting of the Executive Committee. \nApril 13\, 2023 from 2:00 – 3:30 PM\, MT
URL:https://wdc.idaho.gov/event/executive-committee-meeting-5/
CATEGORIES:Committee Meeting
END:VEVENT
BEGIN:VEVENT
DTSTART;VALUE=DATE:20230417
DTEND;VALUE=DATE:20230418
DTSTAMP:20260425T151930
CREATED:20230324T153758Z
LAST-MODIFIED:20230412T213849Z
UID:6146-1681689600-1681775999@wdc.idaho.gov
SUMMARY:CNA Advisory Committee Meeting (Cancelled)
DESCRIPTION:Updated date and time for the regular monthly meeting of the CNA Advisory Committee. \nApril 17\, 2023 from 10:30 AM – 12:30 PM\, MT. \nThis Meeting has been cancelled due to capacity constraints.
URL:https://wdc.idaho.gov/event/cna-advisory-committee-meeting-3/
CATEGORIES:Committee Meeting
END:VEVENT
BEGIN:VEVENT
DTSTART;VALUE=DATE:20230418
DTEND;VALUE=DATE:20230419
DTSTAMP:20260425T151930
CREATED:20230324T154503Z
LAST-MODIFIED:20230623T182801Z
UID:6149-1681776000-1681862399@wdc.idaho.gov
SUMMARY:Policy Committee Meeting
DESCRIPTION:Regular monthly meeting of the Policy Committee. \nApril 18\, 2023 from 2:00 – 3:30 PM\, MT.
URL:https://wdc.idaho.gov/event/policy-committee-meeting-5/
CATEGORIES:Committee Meeting
END:VEVENT
BEGIN:VEVENT
DTSTART;VALUE=DATE:20230425
DTEND;VALUE=DATE:20230426
DTSTAMP:20260425T151930
CREATED:20230324T161606Z
LAST-MODIFIED:20230623T182653Z
UID:6152-1682380800-1682467199@wdc.idaho.gov
SUMMARY:Grant Review Committee Meeting
DESCRIPTION:Regular monthly meeting of the Grant Review Committee. \nApril 25\, 2023\, from 3:00 – 4:30 PM\, MT.
URL:https://wdc.idaho.gov/event/grant-review-committee-meeting-5/
CATEGORIES:Committee Meeting
END:VEVENT
BEGIN:VEVENT
DTSTART;VALUE=DATE:20230425
DTEND;VALUE=DATE:20230426
DTSTAMP:20260425T151930
CREATED:20230420T170858Z
LAST-MODIFIED:20230420T170858Z
UID:6273-1682380800-1682467199@wdc.idaho.gov
SUMMARY:Idaho Department of Labor Caldwell Spring Job Fair
DESCRIPTION:Job seekers are invited to attend Labor’s Spring Job Fair on Tuesday\, April 25. The fair takes place from 10 a.m. until 1 p.m. at the Idaho Department of Labor Caldwell office.  \nThe address is 4514 Thomas Jefferson St. in Caldwell.  \nEmployers in attendance include Camping World\, Johnson Thermal Systems\, D&B Supply\, Personnel Plus\, Upson Company and more.  \nPositions available vary from commercial roofers and welders to general laborers.  \nBring a resume\, dress to impress and be prepared to talk to employers. (Find tips on how to create a professional resume: utilize Maximize Your Job Search Workbook.) \nAttendees with disabilities who need reasonable accommodation to participate should contact Traci.Petitt@labor.idaho.gov or (208) 364-7781 ext. 4151. Dial 711 to access the Idaho Relay Service for the deaf and hard of hearing. \nAttending a job fair counts as one weekly valid work-search activity for unemployment insurance purposes. 
URL:https://wdc.idaho.gov/event/idaho-department-of-labor-caldwell-spring-job-fair/
CATEGORIES:Events/Outreach
END:VEVENT
END:VCALENDAR